BEGIN:VCALENDAR
VERSION:2.0
PRODID:-//LSH - ECPv6.15.8//NONSGML v1.0//EN
CALSCALE:GREGORIAN
METHOD:PUBLISH
X-WR-CALNAME:LSH
X-ORIGINAL-URL:https://lsh.lu
X-WR-CALDESC:Veranstaltungen für LSH
REFRESH-INTERVAL;VALUE=DURATION:PT1H
X-Robots-Tag:noindex
X-PUBLISHED-TTL:PT1H
BEGIN:VTIMEZONE
TZID:Europe/Berlin
BEGIN:DAYLIGHT
TZOFFSETFROM:+0100
TZOFFSETTO:+0200
TZNAME:CEST
DTSTART:20250330T010000
END:DAYLIGHT
BEGIN:STANDARD
TZOFFSETFROM:+0200
TZOFFSETTO:+0100
TZNAME:CET
DTSTART:20251026T010000
END:STANDARD
BEGIN:DAYLIGHT
TZOFFSETFROM:+0100
TZOFFSETTO:+0200
TZNAME:CEST
DTSTART:20260329T010000
END:DAYLIGHT
BEGIN:STANDARD
TZOFFSETFROM:+0200
TZOFFSETTO:+0100
TZNAME:CET
DTSTART:20261025T010000
END:STANDARD
BEGIN:DAYLIGHT
TZOFFSETFROM:+0100
TZOFFSETTO:+0200
TZNAME:CEST
DTSTART:20270328T010000
END:DAYLIGHT
BEGIN:STANDARD
TZOFFSETFROM:+0200
TZOFFSETTO:+0100
TZNAME:CET
DTSTART:20271031T010000
END:STANDARD
END:VTIMEZONE
BEGIN:VEVENT
DTSTART;TZID=Europe/Berlin:20260602T200000
DTEND;TZID=Europe/Berlin:20260602T235900
DTSTAMP:20260419T135838
CREATED:20260313T132708Z
LAST-MODIFIED:20260313T132804Z
UID:2918-1780430400-1780444740@lsh.lu
SUMMARY:Stammdësch
DESCRIPTION:
URL:https://lsh.lu/event/stammdesch-6/
END:VEVENT
BEGIN:VEVENT
DTSTART;TZID=Europe/Berlin:20260610T200000
DTEND;TZID=Europe/Berlin:20260610T235900
DTSTAMP:20260419T135838
CREATED:20260313T133030Z
LAST-MODIFIED:20260313T133115Z
UID:2920-1781121600-1781135940@lsh.lu
SUMMARY:Pubrallye
DESCRIPTION:
URL:https://lsh.lu/event/pubrallye/
END:VEVENT
BEGIN:VEVENT
DTSTART;TZID=Europe/Berlin:20260617T200000
DTEND;TZID=Europe/Berlin:20260617T235900
DTSTAMP:20260419T135838
CREATED:20260313T134031Z
LAST-MODIFIED:20260313T134116Z
UID:2922-1781726400-1781740740@lsh.lu
SUMMARY:Stammdësch
DESCRIPTION:
URL:https://lsh.lu/event/stammdesch-7/
END:VEVENT
BEGIN:VEVENT
DTSTART;TZID=Europe/Berlin:20260619T000000
DTEND;TZID=Europe/Berlin:20260621T235959
DTSTAMP:20260419T135838
CREATED:20260313T134432Z
LAST-MODIFIED:20260313T134518Z
UID:2924-1781827200-1782086399@lsh.lu
SUMMARY:IC - Feierwon
DESCRIPTION:
URL:https://lsh.lu/event/ic-feierwon/
END:VEVENT
BEGIN:VEVENT
DTSTART;TZID=Europe/Berlin:20260625T200000
DTEND;TZID=Europe/Berlin:20260625T235900
DTSTAMP:20260419T135838
CREATED:20260313T134907Z
LAST-MODIFIED:20260313T134954Z
UID:2926-1782417600-1782431940@lsh.lu
SUMMARY:Karaoke
DESCRIPTION:
URL:https://lsh.lu/event/karaoke-2/
END:VEVENT
BEGIN:VEVENT
DTSTART;TZID=Europe/Berlin:20260630T190000
DTEND;TZID=Europe/Berlin:20260630T235900
DTSTAMP:20260419T135838
CREATED:20260313T135129Z
LAST-MODIFIED:20260313T135215Z
UID:2928-1782846000-1782863940@lsh.lu
SUMMARY:AG
DESCRIPTION:
URL:https://lsh.lu/event/ag/
END:VEVENT
END:VCALENDAR